BEGIN:VCALENDAR
VERSION:2.0
PRODID:-//Amistad Center - ECPv6.15.20//NONSGML v1.0//EN
CALSCALE:GREGORIAN
METHOD:PUBLISH
X-ORIGINAL-URL:https://amistadcenter.org
X-WR-CALDESC:Events for Amistad Center
REFRESH-INTERVAL;VALUE=DURATION:PT1H
X-Robots-Tag:noindex
X-PUBLISHED-TTL:PT1H
BEGIN:VTIMEZONE
TZID:America/New_York
BEGIN:DAYLIGHT
TZOFFSETFROM:-0500
TZOFFSETTO:-0400
TZNAME:EDT
DTSTART:20230312T070000
END:DAYLIGHT
BEGIN:STANDARD
TZOFFSETFROM:-0400
TZOFFSETTO:-0500
TZNAME:EST
DTSTART:20231105T060000
END:STANDARD
BEGIN:DAYLIGHT
TZOFFSETFROM:-0500
TZOFFSETTO:-0400
TZNAME:EDT
DTSTART:20240310T070000
END:DAYLIGHT
BEGIN:STANDARD
TZOFFSETFROM:-0400
TZOFFSETTO:-0500
TZNAME:EST
DTSTART:20241103T060000
END:STANDARD
BEGIN:DAYLIGHT
TZOFFSETFROM:-0500
TZOFFSETTO:-0400
TZNAME:EDT
DTSTART:20250309T070000
END:DAYLIGHT
BEGIN:STANDARD
TZOFFSETFROM:-0400
TZOFFSETTO:-0500
TZNAME:EST
DTSTART:20251102T060000
END:STANDARD
BEGIN:DAYLIGHT
TZOFFSETFROM:-0500
TZOFFSETTO:-0400
TZNAME:EDT
DTSTART:20260308T070000
END:DAYLIGHT
BEGIN:STANDARD
TZOFFSETFROM:-0400
TZOFFSETTO:-0500
TZNAME:EST
DTSTART:20261101T060000
END:STANDARD
END:VTIMEZONE
BEGIN:VEVENT
DTSTART;TZID=America/New_York:20250803T110000
DTEND;TZID=America/New_York:20250803T140000
DTSTAMP:20260421T151436
CREATED:20250716T152536Z
LAST-MODIFIED:20250716T152538Z
UID:15452-1754218800-1754229600@amistadcenter.org
SUMMARY:Coffee with a Curator for Members: Yoruba World
DESCRIPTION:Join us for an intimate conversation over coffee\, tea\, and pastries in BMuse Café\, followed by a gallery talk with Sarah Clunis\, curator of Yoruba World and executive director of The Amistad Center for Art & Culture. Dr. Clunis shares insights into the cultural significance of the featured works\, as well as the power of art to preserve ancestral memory and affirm identity across generations and geographies. \n\n\n\nKeep an eye on your inbox for the invitation and registration link.
URL:https://amistadcenter.org/all-event/coffee-with-a-curator-for-members-yoruba-world-2/
CATEGORIES:Adult,Members,Talks,Tour
ATTACH;FMTTYPE=image/jpeg:https://amistadcenter.org/wp-content/uploads/2025/06/Eve-The-Orishas-Harmonia-Rosales-300x239-1.jpg
END:VEVENT
BEGIN:VEVENT
DTSTART;TZID=America/New_York:20241022T040000
DTEND;TZID=America/New_York:20241022T130000
DTSTAMP:20260421T151436
CREATED:20240907T222212Z
LAST-MODIFIED:20240918T001922Z
UID:3098-1729569600-1729602000@amistadcenter.org
SUMMARY:Lecture Series
DESCRIPTION:Another Amazing Event at Amistad
URL:https://amistadcenter.org/all-event/another-amazing-event-at-amistad-3/
CATEGORIES:Adult,Community Conversations,First Thursday,Gala,Members,Talks
ATTACH;FMTTYPE=image/jpeg:https://amistadcenter.org/wp-content/uploads/2024/09/Wadsworth_MLK_Celebration_160-scaled.jpg
END:VEVENT
BEGIN:VEVENT
DTSTART;TZID=America/New_York:20241016T040000
DTEND;TZID=America/New_York:20241016T130000
DTSTAMP:20260421T151436
CREATED:20240907T222458Z
LAST-MODIFIED:20240918T001922Z
UID:3100-1729051200-1729083600@amistadcenter.org
SUMMARY:Black Farmers of Farmington
DESCRIPTION:Another Amazing Event at Amistad
URL:https://amistadcenter.org/all-event/another-amazing-event-at-amistad-4/
LOCATION:Amistad Center\, 1310 SW 2ND CT\, Fort Lauderdale\, FL\, 33312\, United States
CATEGORIES:Juneteenth,Members,Second Saturday
ATTACH;FMTTYPE=image/png:https://amistadcenter.org/wp-content/uploads/2024/09/Picture10.png
END:VEVENT
END:VCALENDAR