BEGIN:VCALENDAR
VERSION:2.0
PRODID:-//Amistad Center - ECPv6.15.20//NONSGML v1.0//EN
CALSCALE:GREGORIAN
METHOD:PUBLISH
X-ORIGINAL-URL:https://amistadcenter.org
X-WR-CALDESC:Events for Amistad Center
REFRESH-INTERVAL;VALUE=DURATION:PT1H
X-Robots-Tag:noindex
X-PUBLISHED-TTL:PT1H
BEGIN:VTIMEZONE
TZID:America/New_York
BEGIN:DAYLIGHT
TZOFFSETFROM:-0500
TZOFFSETTO:-0400
TZNAME:EDT
DTSTART:20250309T070000
END:DAYLIGHT
BEGIN:STANDARD
TZOFFSETFROM:-0400
TZOFFSETTO:-0500
TZNAME:EST
DTSTART:20251102T060000
END:STANDARD
BEGIN:DAYLIGHT
TZOFFSETFROM:-0500
TZOFFSETTO:-0400
TZNAME:EDT
DTSTART:20260308T070000
END:DAYLIGHT
BEGIN:STANDARD
TZOFFSETFROM:-0400
TZOFFSETTO:-0500
TZNAME:EST
DTSTART:20261101T060000
END:STANDARD
BEGIN:DAYLIGHT
TZOFFSETFROM:-0500
TZOFFSETTO:-0400
TZNAME:EDT
DTSTART:20270314T070000
END:DAYLIGHT
BEGIN:STANDARD
TZOFFSETFROM:-0400
TZOFFSETTO:-0500
TZNAME:EST
DTSTART:20271107T060000
END:STANDARD
END:VTIMEZONE
BEGIN:VEVENT
DTSTART;TZID=America/New_York:20260613T120000
DTEND;TZID=America/New_York:20260613T160000
DTSTAMP:20260421T130833
CREATED:20260316T203513Z
LAST-MODIFIED:20260317T153959Z
UID:16213-1781352000-1781366400@amistadcenter.org
SUMMARY:Juneteenth Family Day
DESCRIPTION:Juneteenth Family Day – June 13Held at the Wadsworth Atheneum Museum of Art\, this free community program will feature hands-on artmaking activities\, storytelling\, cultural demonstrations\, and interactive gallery experiences designed for families and young visitors.
URL:https://amistadcenter.org/all-event/juneteenth-family-day-2/
CATEGORIES:Children,Family,Juneteenth
ATTACH;FMTTYPE=image/png:https://amistadcenter.org/wp-content/uploads/2026/03/Celebrations.png
END:VEVENT
END:VCALENDAR