BEGIN:VCALENDAR
VERSION:2.0
PRODID:-//Amistad Center - ECPv6.15.20//NONSGML v1.0//EN
CALSCALE:GREGORIAN
METHOD:PUBLISH
X-WR-CALNAME:Amistad Center
X-ORIGINAL-URL:https://amistadcenter.org
X-WR-CALDESC:Events for Amistad Center
REFRESH-INTERVAL;VALUE=DURATION:PT1H
X-Robots-Tag:noindex
X-PUBLISHED-TTL:PT1H
BEGIN:VTIMEZONE
TZID:America/New_York
BEGIN:DAYLIGHT
TZOFFSETFROM:-0500
TZOFFSETTO:-0400
TZNAME:EDT
DTSTART:20250309T070000
END:DAYLIGHT
BEGIN:STANDARD
TZOFFSETFROM:-0400
TZOFFSETTO:-0500
TZNAME:EST
DTSTART:20251102T060000
END:STANDARD
BEGIN:DAYLIGHT
TZOFFSETFROM:-0500
TZOFFSETTO:-0400
TZNAME:EDT
DTSTART:20260308T070000
END:DAYLIGHT
BEGIN:STANDARD
TZOFFSETFROM:-0400
TZOFFSETTO:-0500
TZNAME:EST
DTSTART:20261101T060000
END:STANDARD
BEGIN:DAYLIGHT
TZOFFSETFROM:-0500
TZOFFSETTO:-0400
TZNAME:EDT
DTSTART:20270314T070000
END:DAYLIGHT
BEGIN:STANDARD
TZOFFSETFROM:-0400
TZOFFSETTO:-0500
TZNAME:EST
DTSTART:20271107T060000
END:STANDARD
BEGIN:DAYLIGHT
TZOFFSETFROM:-0500
TZOFFSETTO:-0400
TZNAME:EDT
DTSTART:20280312T070000
END:DAYLIGHT
BEGIN:STANDARD
TZOFFSETFROM:-0400
TZOFFSETTO:-0500
TZNAME:EST
DTSTART:20281105T060000
END:STANDARD
END:VTIMEZONE
BEGIN:VEVENT
DTSTART;TZID=America/New_York:20260331T080000
DTEND;TZID=America/New_York:20270331T170000
DTSTAMP:20260420T102148
CREATED:20260418T181737Z
LAST-MODIFIED:20260418T182544Z
UID:16433-1774944000-1806512400@amistadcenter.org
SUMMARY:Wendel A. White: Manifest | Thirteen Colonies
DESCRIPTION:Manifest | Thirteen Colonies is the culmination of a multiyear journey by photographer Wendel A. White to find and document African American material culture in the libraries\, museums\, and archives of the thirteen original English colonies and Washington\, DC. This “personal reliquary of Black agency and racial oppression stored in public collections” includes both singular objects connected to significant figures (a lock of Frederick Douglass’s hair\, Malcolm X’s tape recorder) and more quotidian materials (a hair straightening comb\, a pressed corsage). Given the same photographic treatment—each object centered on a stark black background and captured with a shallow depth of field—the distinction between the “significant” and the “quotidian” dissolves\, as White makes it clear they are all important pieces of forensic evidence of Black life and history in the United States.
URL:https://amistadcenter.org/all-event/wendel-a-white-manifest-thirteen-colonies/
ATTACH;FMTTYPE=image/jpeg:https://amistadcenter.org/wp-content/uploads/2025/04/wendel_white-4.jpg
END:VEVENT
END:VCALENDAR