BEGIN:VCALENDAR
VERSION:2.0
PRODID:-//Amistad Center - ECPv6.15.20//NONSGML v1.0//EN
CALSCALE:GREGORIAN
METHOD:PUBLISH
X-WR-CALNAME:Amistad Center
X-ORIGINAL-URL:https://amistadcenter.org
X-WR-CALDESC:Events for Amistad Center
REFRESH-INTERVAL;VALUE=DURATION:PT1H
X-Robots-Tag:noindex
X-PUBLISHED-TTL:PT1H
BEGIN:VTIMEZONE
TZID:America/New_York
BEGIN:DAYLIGHT
TZOFFSETFROM:-0500
TZOFFSETTO:-0400
TZNAME:EDT
DTSTART:20250309T070000
END:DAYLIGHT
BEGIN:STANDARD
TZOFFSETFROM:-0400
TZOFFSETTO:-0500
TZNAME:EST
DTSTART:20251102T060000
END:STANDARD
BEGIN:DAYLIGHT
TZOFFSETFROM:-0500
TZOFFSETTO:-0400
TZNAME:EDT
DTSTART:20260308T070000
END:DAYLIGHT
BEGIN:STANDARD
TZOFFSETFROM:-0400
TZOFFSETTO:-0500
TZNAME:EST
DTSTART:20261101T060000
END:STANDARD
BEGIN:DAYLIGHT
TZOFFSETFROM:-0500
TZOFFSETTO:-0400
TZNAME:EDT
DTSTART:20270314T070000
END:DAYLIGHT
BEGIN:STANDARD
TZOFFSETFROM:-0400
TZOFFSETTO:-0500
TZNAME:EST
DTSTART:20271107T060000
END:STANDARD
END:VTIMEZONE
BEGIN:VEVENT
DTSTART;TZID=America/New_York:20260620T130000
DTEND;TZID=America/New_York:20260620T210000
DTSTAMP:20260418T190922
CREATED:20260316T203322Z
LAST-MODIFIED:20260317T142434Z
UID:16211-1781960400-1781989200@amistadcenter.org
SUMMARY:Bridging Freedom: A Juneteenth Celebration with The City of Hartford & East Hartford
DESCRIPTION:With The City of Hartford & East Hartford \n\n\n\n\n\nPresented in partnership with the City of Hartford\, this large-scale outdoor celebration will include live performances\, community vendors\, art activations\, and cultural presentations that engage the broader public.
URL:https://amistadcenter.org/all-event/bridging-freedom-a-juneteenth-celebration/
CATEGORIES:Adult,Children
ATTACH;FMTTYPE=image/png:https://amistadcenter.org/wp-content/uploads/2026/03/Celebrations.png
END:VEVENT
END:VCALENDAR