BEGIN:VCALENDAR
VERSION:2.0
PRODID:-//Amistad Center - ECPv6.15.20//NONSGML v1.0//EN
CALSCALE:GREGORIAN
METHOD:PUBLISH
X-WR-CALNAME:Amistad Center
X-ORIGINAL-URL:https://amistadcenter.org
X-WR-CALDESC:Events for Amistad Center
REFRESH-INTERVAL;VALUE=DURATION:PT1H
X-Robots-Tag:noindex
X-PUBLISHED-TTL:PT1H
BEGIN:VTIMEZONE
TZID:America/New_York
BEGIN:DAYLIGHT
TZOFFSETFROM:-0500
TZOFFSETTO:-0400
TZNAME:EDT
DTSTART:20240310T070000
END:DAYLIGHT
BEGIN:STANDARD
TZOFFSETFROM:-0400
TZOFFSETTO:-0500
TZNAME:EST
DTSTART:20241103T060000
END:STANDARD
BEGIN:DAYLIGHT
TZOFFSETFROM:-0500
TZOFFSETTO:-0400
TZNAME:EDT
DTSTART:20250309T070000
END:DAYLIGHT
BEGIN:STANDARD
TZOFFSETFROM:-0400
TZOFFSETTO:-0500
TZNAME:EST
DTSTART:20251102T060000
END:STANDARD
BEGIN:DAYLIGHT
TZOFFSETFROM:-0500
TZOFFSETTO:-0400
TZNAME:EDT
DTSTART:20260308T070000
END:DAYLIGHT
BEGIN:STANDARD
TZOFFSETFROM:-0400
TZOFFSETTO:-0500
TZNAME:EST
DTSTART:20261101T060000
END:STANDARD
END:VTIMEZONE
BEGIN:VEVENT
DTSTART;TZID=America/New_York:20251110T183000
DTEND;TZID=America/New_York:20251110T203000
DTSTAMP:20260418T222005
CREATED:20250722T173805Z
LAST-MODIFIED:20251104T221332Z
UID:15510-1762799400-1762806600@amistadcenter.org
SUMMARY:Amistad Center's Annual Meeting
DESCRIPTION:You’re Invited to the Annual Meeting of The Amistad Center for Art & Culture. \n\n\n\nJoin us for an evening of reflection\, celebration\, and visioning as we share highlights from the past year and exciting plans for the future. All Trustees\, supporters\, and community partners are welcome. Light refreshments will be served.
URL:https://amistadcenter.org/all-event/amistad-centers-annual-meeting/
CATEGORIES:Adult
ATTACH;FMTTYPE=image/png:https://amistadcenter.org/wp-content/uploads/2025/07/2025-Annual-Meeting-Flyer.png
END:VEVENT
END:VCALENDAR