BEGIN:VCALENDAR
VERSION:2.0
PRODID:-//Amistad Center - ECPv6.15.20//NONSGML v1.0//EN
CALSCALE:GREGORIAN
METHOD:PUBLISH
X-WR-CALNAME:Amistad Center
X-ORIGINAL-URL:https://amistadcenter.org
X-WR-CALDESC:Events for Amistad Center
REFRESH-INTERVAL;VALUE=DURATION:PT1H
X-Robots-Tag:noindex
X-PUBLISHED-TTL:PT1H
BEGIN:VTIMEZONE
TZID:America/New_York
BEGIN:DAYLIGHT
TZOFFSETFROM:-0500
TZOFFSETTO:-0400
TZNAME:EDT
DTSTART:20250309T070000
END:DAYLIGHT
BEGIN:STANDARD
TZOFFSETFROM:-0400
TZOFFSETTO:-0500
TZNAME:EST
DTSTART:20251102T060000
END:STANDARD
BEGIN:DAYLIGHT
TZOFFSETFROM:-0500
TZOFFSETTO:-0400
TZNAME:EDT
DTSTART:20260308T070000
END:DAYLIGHT
BEGIN:STANDARD
TZOFFSETFROM:-0400
TZOFFSETTO:-0500
TZNAME:EST
DTSTART:20261101T060000
END:STANDARD
BEGIN:DAYLIGHT
TZOFFSETFROM:-0500
TZOFFSETTO:-0400
TZNAME:EDT
DTSTART:20270314T070000
END:DAYLIGHT
BEGIN:STANDARD
TZOFFSETFROM:-0400
TZOFFSETTO:-0500
TZNAME:EST
DTSTART:20271107T060000
END:STANDARD
END:VTIMEZONE
BEGIN:VEVENT
DTSTART;TZID=America/New_York:20260619T190000
DTEND;TZID=America/New_York:20260619T230000
DTSTAMP:20260419T084232
CREATED:20260316T193800Z
LAST-MODIFIED:20260316T193802Z
UID:16201-1781895600-1781910000@amistadcenter.org
SUMMARY:35th Juneteenth Jubliee Celebration
DESCRIPTION:Juneteenth Jammin’ Jubilee Celebration Series\n\n\n\nCelebrating the 35th Year of The Amistad Center’s Annual Juneteenth Celebration \n\n\n\nDate: Friday\, June 19\, 2026  \n\n\n\nTime: 7:00 PM – 11:00 PM  \n\n\n\nLocation: The Amistad Center for Art & Culture\, 600 Main Street\, Hartford\, Connecticut 06103 (Located inside The Wadsworth Museum) \n\n\n\nJoin us for an unforgettable evening of music\, culture\, cuisine\, and celebration at the Juneteenth Jammin’ Jubilee\, a vibrant old-school house-party style celebration honoring freedom\, community\, and the African American experience. \n\n\n\nHosted by The Amistad Center for Art & Culture\, this special evening celebrates the 35th year of the Amistad Center’s annual Juneteenth celebration\, a beloved tradition that brings our community together to honor the history\, resilience\, and cultural contributions of people of African descent. \n\n\n\nThis is not a traditional gala — it’s a celebration! \n\n\n\nGuests Will Enjoy\n\n\n\n• Open bar with signature cocktails  \n\n\n\n• Cultural cuisine representing the African diaspora  \n\n\n\n• Live entertainment and music across generations  \n\n\n\n• Dancing and joyful community celebration  \n\n\n\n• Artistic activations and cultural experiences throughout the evening \n\n\n\nTickets: $175 per person \n\n\n\nMost importantly\, your attendance supports The Amistad Center’s youth arts and cultural education programs\, ensuring the next generation continues to learn\, experience\, and celebrate African American history and culture. \n\n\n\nAttire & Creative Expression\n\n\n\nThis is a night of creative expression and celebration. \n\n\n\nGuests are encouraged to come dressed in ways that celebrate culture and individuality: \n\n\n\n• African or Afro-diasporic attire • Artist-inspired fashion \n\n\n\n• Cocktail attire with cultural flair • Old-school era fashion • Bold and creative looks \n\n\n\nNo gowns or tuxedos required — but welcome if you wish. Bring your style\, good vibes\, and your dancing shoes.
URL:https://amistadcenter.org/all-event/35th-juneteenth-jubliee-celebration/
ATTACH;FMTTYPE=image/png:https://amistadcenter.org/wp-content/uploads/2026/03/2.png
END:VEVENT
END:VCALENDAR